BEGIN:VCALENDAR
VERSION:2.0
PRODID:-//Dirt Cheap - ECPv6.15.17.1//NONSGML v1.0//EN
CALSCALE:GREGORIAN
METHOD:PUBLISH
X-WR-CALNAME:Dirt Cheap
X-ORIGINAL-URL:https://www.dirtcheapfunfun.com
X-WR-CALDESC:Events for Dirt Cheap
REFRESH-INTERVAL;VALUE=DURATION:PT1H
X-Robots-Tag:noindex
X-PUBLISHED-TTL:PT1H
BEGIN:VTIMEZONE
TZID:America/Chicago
BEGIN:DAYLIGHT
TZOFFSETFROM:-0600
TZOFFSETTO:-0500
TZNAME:CDT
DTSTART:20250309T080000
END:DAYLIGHT
BEGIN:STANDARD
TZOFFSETFROM:-0500
TZOFFSETTO:-0600
TZNAME:CST
DTSTART:20251102T070000
END:STANDARD
BEGIN:DAYLIGHT
TZOFFSETFROM:-0600
TZOFFSETTO:-0500
TZNAME:CDT
DTSTART:20260308T080000
END:DAYLIGHT
BEGIN:STANDARD
TZOFFSETFROM:-0500
TZOFFSETTO:-0600
TZNAME:CST
DTSTART:20261101T070000
END:STANDARD
BEGIN:DAYLIGHT
TZOFFSETFROM:-0600
TZOFFSETTO:-0500
TZNAME:CDT
DTSTART:20270314T080000
END:DAYLIGHT
BEGIN:STANDARD
TZOFFSETFROM:-0500
TZOFFSETTO:-0600
TZNAME:CST
DTSTART:20271107T070000
END:STANDARD
END:VTIMEZONE
BEGIN:VEVENT
DTSTART;TZID=America/Chicago:20260424T140000
DTEND;TZID=America/Chicago:20260424T160000
DTSTAMP:20260422T111149
CREATED:20260403T205728Z
LAST-MODIFIED:20260403T205728Z
UID:10000353-1777039200-1777046400@www.dirtcheapfunfun.com
SUMMARY:Nutrl Peach\, Nutrl Blueberry\, Skimmers Pink Lemonade
DESCRIPTION:
URL:https://www.dirtcheapfunfun.com/event/nutrl-peach-nutrl-blueberry-skimmers-pink-lemonade-29/
LOCATION:Dirt Cheap Affton\, 8445 Gravois Rd\, Affton\, MO\, 63123\, United States
CATEGORIES:Sampling
ATTACH;FMTTYPE=image/png:https://www.dirtcheapfunfun.com/wp-content/uploads/2026/02/Untitled-design-2026-02-09T125009.272.png
END:VEVENT
BEGIN:VEVENT
DTSTART;TZID=America/Chicago:20260507T150000
DTEND;TZID=America/Chicago:20260507T180000
DTSTAMP:20260422T111149
CREATED:20260414T205058Z
LAST-MODIFIED:20260414T205058Z
UID:10000366-1778166000-1778176800@www.dirtcheapfunfun.com
SUMMARY:Tito's + Pups
DESCRIPTION:
URL:https://www.dirtcheapfunfun.com/event/titos-pups-3/
LOCATION:Dirt Cheap Affton\, 8445 Gravois Rd\, Affton\, MO\, 63123\, United States
CATEGORIES:Event
ATTACH;FMTTYPE=image/png:https://www.dirtcheapfunfun.com/wp-content/uploads/2026/04/Untitled-design-2026-04-14T154834.478.png
END:VEVENT
BEGIN:VEVENT
DTSTART;TZID=America/Chicago:20260523T120000
DTEND;TZID=America/Chicago:20260523T140000
DTSTAMP:20260422T111149
CREATED:20260414T205334Z
LAST-MODIFIED:20260414T205334Z
UID:10000368-1779537600-1779544800@www.dirtcheapfunfun.com
SUMMARY:Meet Jamie Rivers & Sample Zwickel Light
DESCRIPTION:
URL:https://www.dirtcheapfunfun.com/event/meet-jamie-rivers-sample-zwickel-light-2/
LOCATION:Dirt Cheap Affton\, 8445 Gravois Rd\, Affton\, MO\, 63123\, United States
CATEGORIES:Event
ATTACH;FMTTYPE=image/png:https://www.dirtcheapfunfun.com/wp-content/uploads/2026/04/Untitled-design-2026-04-14T155242.346.png
END:VEVENT
END:VCALENDAR