BEGIN:VCALENDAR
VERSION:2.0
PRODID:-//Dirt Cheap - ECPv6.15.17.1//NONSGML v1.0//EN
CALSCALE:GREGORIAN
METHOD:PUBLISH
X-ORIGINAL-URL:https://www.dirtcheapfunfun.com
X-WR-CALDESC:Events for Dirt Cheap
REFRESH-INTERVAL;VALUE=DURATION:PT1H
X-Robots-Tag:noindex
X-PUBLISHED-TTL:PT1H
BEGIN:VTIMEZONE
TZID:America/Chicago
BEGIN:DAYLIGHT
TZOFFSETFROM:-0600
TZOFFSETTO:-0500
TZNAME:CDT
DTSTART:20250309T080000
END:DAYLIGHT
BEGIN:STANDARD
TZOFFSETFROM:-0500
TZOFFSETTO:-0600
TZNAME:CST
DTSTART:20251102T070000
END:STANDARD
BEGIN:DAYLIGHT
TZOFFSETFROM:-0600
TZOFFSETTO:-0500
TZNAME:CDT
DTSTART:20260308T080000
END:DAYLIGHT
BEGIN:STANDARD
TZOFFSETFROM:-0500
TZOFFSETTO:-0600
TZNAME:CST
DTSTART:20261101T070000
END:STANDARD
BEGIN:DAYLIGHT
TZOFFSETFROM:-0600
TZOFFSETTO:-0500
TZNAME:CDT
DTSTART:20270314T080000
END:DAYLIGHT
BEGIN:STANDARD
TZOFFSETFROM:-0500
TZOFFSETTO:-0600
TZNAME:CST
DTSTART:20271107T070000
END:STANDARD
END:VTIMEZONE
BEGIN:VEVENT
DTSTART;TZID=America/Chicago:20260418T140000
DTEND;TZID=America/Chicago:20260418T160000
DTSTAMP:20260422T141937
CREATED:20260403T210151Z
LAST-MODIFIED:20260403T210151Z
UID:10000359-1776520800-1776528000@www.dirtcheapfunfun.com
SUMMARY:On the Rocks\, -196\, Jim Beam
DESCRIPTION:
URL:https://www.dirtcheapfunfun.com/event/on-the-rocks-196-jim-beam-11/
LOCATION:Dirt Cheap Wentzville\, 42 West Hwy N\, Wentzville\, MO\, 63385\, United States
CATEGORIES:Sampling
ATTACH;FMTTYPE=image/png:https://www.dirtcheapfunfun.com/wp-content/uploads/2026/04/Untitled-design-2026-04-03T153413.107.png
END:VEVENT
BEGIN:VEVENT
DTSTART;TZID=America/Chicago:20260418T140000
DTEND;TZID=America/Chicago:20260418T160000
DTSTAMP:20260422T141937
CREATED:20260403T205048Z
LAST-MODIFIED:20260403T205048Z
UID:10000344-1776520800-1776528000@www.dirtcheapfunfun.com
SUMMARY:On the Rocks\, -196\, Jim Beam
DESCRIPTION:
URL:https://www.dirtcheapfunfun.com/event/on-the-rocks-196-jim-beam-4/
LOCATION:Dirt Cheap Ballwin\, 15221 Manchester Rd\, Ballwin\, MO\, 63011\, United States
CATEGORIES:Sampling
ATTACH;FMTTYPE=image/png:https://www.dirtcheapfunfun.com/wp-content/uploads/2026/04/Untitled-design-2026-04-03T153413.107.png
END:VEVENT
BEGIN:VEVENT
DTSTART;TZID=America/Chicago:20260418T140000
DTEND;TZID=America/Chicago:20260418T160000
DTSTAMP:20260422T141937
CREATED:20260403T203504Z
LAST-MODIFIED:20260403T203504Z
UID:10000339-1776520800-1776528000@www.dirtcheapfunfun.com
SUMMARY:On the Rocks\, -196\, Jim Beam
DESCRIPTION:
URL:https://www.dirtcheapfunfun.com/event/on-the-rocks-196-jim-beam/
LOCATION:Dirt Cheap Sullivan\, 771 N Service Rd W\, Sullivan\, MO\, 63080\, United States
CATEGORIES:Sampling
ATTACH;FMTTYPE=image/png:https://www.dirtcheapfunfun.com/wp-content/uploads/2026/04/Untitled-design-2026-04-03T153413.107.png
END:VEVENT
BEGIN:VEVENT
DTSTART;TZID=America/Chicago:20260417T150000
DTEND;TZID=America/Chicago:20260417T170000
DTSTAMP:20260422T141937
CREATED:20260414T204625Z
LAST-MODIFIED:20260414T204625Z
UID:10000363-1776438000-1776445200@www.dirtcheapfunfun.com
SUMMARY:Cresent 9
DESCRIPTION:
URL:https://www.dirtcheapfunfun.com/event/cresent-9-3/
LOCATION:Dirt Cheap Kisker\, 1495 Kisker Rd\, St Charles\, MO\, 63304\, United States
CATEGORIES:Sampling
ATTACH;FMTTYPE=image/png:https://www.dirtcheapfunfun.com/wp-content/uploads/2026/04/Untitled-design-2026-04-14T154256.891.png
END:VEVENT
BEGIN:VEVENT
DTSTART;TZID=America/Chicago:20260417T150000
DTEND;TZID=America/Chicago:20260417T170000
DTSTAMP:20260422T141938
CREATED:20260403T205901Z
LAST-MODIFIED:20260403T205901Z
UID:10000355-1776438000-1776445200@www.dirtcheapfunfun.com
SUMMARY:On the Rocks\, -196\, Jim Beam
DESCRIPTION:
URL:https://www.dirtcheapfunfun.com/event/on-the-rocks-196-jim-beam-9/
LOCATION:Dirt Cheap Cape Girardeau\, 420 S Kingshighway\, Cape Girardeau\, MO\, 63701\, United States
CATEGORIES:Sampling
ATTACH;FMTTYPE=image/png:https://www.dirtcheapfunfun.com/wp-content/uploads/2026/04/Untitled-design-2026-04-03T153413.107.png
END:VEVENT
BEGIN:VEVENT
DTSTART;TZID=America/Chicago:20260417T150000
DTEND;TZID=America/Chicago:20260417T170000
DTSTAMP:20260422T141938
CREATED:20260403T205351Z
LAST-MODIFIED:20260403T205351Z
UID:10000347-1776438000-1776445200@www.dirtcheapfunfun.com
SUMMARY:On the Rocks\, -196\, Jim Beam
DESCRIPTION:
URL:https://www.dirtcheapfunfun.com/event/on-the-rocks-196-jim-beam-5/
LOCATION:Dirt Cheap Oakville\, 4359 Telegraph Rd\, St. Louis\, MO\, 63129\, United States
CATEGORIES:Sampling
ATTACH;FMTTYPE=image/png:https://www.dirtcheapfunfun.com/wp-content/uploads/2026/04/Untitled-design-2026-04-03T153413.107.png
END:VEVENT
BEGIN:VEVENT
DTSTART;TZID=America/Chicago:20260417T150000
DTEND;TZID=America/Chicago:20260417T170000
DTSTAMP:20260422T141938
CREATED:20260403T204711Z
LAST-MODIFIED:20260403T204711Z
UID:10000341-1776438000-1776445200@www.dirtcheapfunfun.com
SUMMARY:On the Rocks\, -196\, Jim Beam
DESCRIPTION:
URL:https://www.dirtcheapfunfun.com/event/on-the-rocks-196-jim-beam-2/
LOCATION:Dirt Cheap O’Fallon\, 102 McDonald Ln\, O'Fallon\, MO\, 63366\, United States
CATEGORIES:Sampling
ATTACH;FMTTYPE=image/png:https://www.dirtcheapfunfun.com/wp-content/uploads/2026/04/Untitled-design-2026-04-03T153413.107.png
END:VEVENT
BEGIN:VEVENT
DTSTART;TZID=America/Chicago:20260416T150000
DTEND;TZID=America/Chicago:20260416T170000
DTSTAMP:20260422T141938
CREATED:20260403T205545Z
LAST-MODIFIED:20260403T205545Z
UID:10000350-1776351600-1776358800@www.dirtcheapfunfun.com
SUMMARY:On the Rocks\, -196\, Jim Beam
DESCRIPTION:
URL:https://www.dirtcheapfunfun.com/event/on-the-rocks-196-jim-beam-7/
LOCATION:Dirt Cheap Dunn Road\, 1401 Dunn Rd\, St. Louis\, MO\, 63138\, United States
CATEGORIES:Sampling
ATTACH;FMTTYPE=image/png:https://www.dirtcheapfunfun.com/wp-content/uploads/2026/04/Untitled-design-2026-04-03T153413.107.png
END:VEVENT
BEGIN:VEVENT
DTSTART;TZID=America/Chicago:20260416T143000
DTEND;TZID=America/Chicago:20260416T163000
DTSTAMP:20260422T141938
CREATED:20260403T204625Z
LAST-MODIFIED:20260403T204625Z
UID:10000340-1776349800-1776357000@www.dirtcheapfunfun.com
SUMMARY:Nutrl Peach\, Nutrl Blueberry\, Skimmers Pink Lemonade
DESCRIPTION:
URL:https://www.dirtcheapfunfun.com/event/nutrl-peach-nutrl-blueberry-skimmers-pink-lemonade-24/
LOCATION:Dirt Cheap O’Fallon\, 102 McDonald Ln\, O'Fallon\, MO\, 63366\, United States
CATEGORIES:Sampling
ATTACH;FMTTYPE=image/png:https://www.dirtcheapfunfun.com/wp-content/uploads/2026/02/Untitled-design-2026-02-09T125009.272.png
END:VEVENT
BEGIN:VEVENT
DTSTART;TZID=America/Chicago:20260416T120000
DTEND;TZID=America/Chicago:20260416T140000
DTSTAMP:20260422T141938
CREATED:20260403T205804Z
LAST-MODIFIED:20260403T205804Z
UID:10000354-1776340800-1776348000@www.dirtcheapfunfun.com
SUMMARY:Nutrl Peach\, Nutrl Blueberry\, Skimmers Pink Lemonade
DESCRIPTION:
URL:https://www.dirtcheapfunfun.com/event/nutrl-peach-nutrl-blueberry-skimmers-pink-lemonade-30/
LOCATION:Dirt Cheap Kisker\, 1495 Kisker Rd\, St Charles\, MO\, 63304\, United States
CATEGORIES:Sampling
ATTACH;FMTTYPE=image/png:https://www.dirtcheapfunfun.com/wp-content/uploads/2026/02/Untitled-design-2026-02-09T125009.272.png
END:VEVENT
BEGIN:VEVENT
DTSTART;TZID=America/Chicago:20260410T143000
DTEND;TZID=America/Chicago:20260410T163000
DTSTAMP:20260422T141938
CREATED:20260403T205703Z
LAST-MODIFIED:20260403T205703Z
UID:10000352-1775831400-1775838600@www.dirtcheapfunfun.com
SUMMARY:Nutrl Peach\, Nutrl Blueberry\, Skimmers Pink Lemonade
DESCRIPTION:
URL:https://www.dirtcheapfunfun.com/event/nutrl-peach-nutrl-blueberry-skimmers-pink-lemonade-28/
LOCATION:Dirt Cheap Affton\, 8445 Gravois Rd\, Affton\, MO\, 63123\, United States
CATEGORIES:Sampling
ATTACH;FMTTYPE=image/png:https://www.dirtcheapfunfun.com/wp-content/uploads/2026/02/Untitled-design-2026-02-09T125009.272.png
END:VEVENT
BEGIN:VEVENT
DTSTART;TZID=America/Chicago:20260410T120000
DTEND;TZID=America/Chicago:20260410T140000
DTSTAMP:20260422T141938
CREATED:20260403T205302Z
LAST-MODIFIED:20260403T205302Z
UID:10000346-1775822400-1775829600@www.dirtcheapfunfun.com
SUMMARY:Nutrl Peach\, Nutrl Blueberry\, Skimmers Pink Lemonade
DESCRIPTION:
URL:https://www.dirtcheapfunfun.com/event/nutrl-peach-nutrl-blueberry-skimmers-pink-lemonade-26/
LOCATION:Dirt Cheap Oakville\, 4359 Telegraph Rd\, St. Louis\, MO\, 63129\, United States
CATEGORIES:Sampling
ATTACH;FMTTYPE=image/png:https://www.dirtcheapfunfun.com/wp-content/uploads/2026/02/Untitled-design-2026-02-09T125009.272.png
END:VEVENT
BEGIN:VEVENT
DTSTART;TZID=America/Chicago:20260409T120000
DTEND;TZID=America/Chicago:20260409T140000
DTSTAMP:20260422T141938
CREATED:20260403T210115Z
LAST-MODIFIED:20260403T210115Z
UID:10000358-1775736000-1775743200@www.dirtcheapfunfun.com
SUMMARY:Nutrl Peach\, Nutrl Blueberry\, Skimmers Pink Lemonade
DESCRIPTION:
URL:https://www.dirtcheapfunfun.com/event/nutrl-peach-nutrl-blueberry-skimmers-pink-lemonade-31/
LOCATION:Dirt Cheap Wentzville\, 42 West Hwy N\, Wentzville\, MO\, 63385\, United States
CATEGORIES:Sampling
ATTACH;FMTTYPE=image/png:https://www.dirtcheapfunfun.com/wp-content/uploads/2026/02/Untitled-design-2026-02-09T125009.272.png
END:VEVENT
BEGIN:VEVENT
DTSTART;TZID=America/Chicago:20260328T160000
DTEND;TZID=America/Chicago:20260328T180000
DTSTAMP:20260422T141938
CREATED:20260302T191150Z
LAST-MODIFIED:20260302T191150Z
UID:10000296-1774713600-1774720800@www.dirtcheapfunfun.com
SUMMARY:Coors Banquet 12pk-16oz
DESCRIPTION:
URL:https://www.dirtcheapfunfun.com/event/coors-banquet-12pk-16oz-2/
LOCATION:Dirt Cheap Ballwin\, 15221 Manchester Rd\, Ballwin\, MO\, 63011\, United States
CATEGORIES:Tasting
ATTACH;FMTTYPE=image/png:https://www.dirtcheapfunfun.com/wp-content/uploads/2026/03/Untitled-design-2026-03-02T130417.191.png
END:VEVENT
BEGIN:VEVENT
DTSTART;TZID=America/Chicago:20260328T160000
DTEND;TZID=America/Chicago:20260328T180000
DTSTAMP:20260422T141938
CREATED:20260302T191018Z
LAST-MODIFIED:20260302T191018Z
UID:10000294-1774713600-1774720800@www.dirtcheapfunfun.com
SUMMARY:Coors Banquet 12pk-16oz
DESCRIPTION:
URL:https://www.dirtcheapfunfun.com/event/coors-banquet-12pk-16oz/
LOCATION:Dirt Cheap O’Fallon\, 102 McDonald Ln\, O'Fallon\, MO\, 63366\, United States
CATEGORIES:Tasting
ATTACH;FMTTYPE=image/png:https://www.dirtcheapfunfun.com/wp-content/uploads/2026/03/Untitled-design-2026-03-02T130417.191.png
END:VEVENT
BEGIN:VEVENT
DTSTART;TZID=America/Chicago:20260328T140000
DTEND;TZID=America/Chicago:20260328T160000
DTSTAMP:20260422T141938
CREATED:20260302T194606Z
LAST-MODIFIED:20260302T194606Z
UID:10000325-1774706400-1774713600@www.dirtcheapfunfun.com
SUMMARY:Pabst 99
DESCRIPTION:
URL:https://www.dirtcheapfunfun.com/event/pabst-99-8/
LOCATION:Dirt Cheap Oakville\, 4359 Telegraph Rd\, St. Louis\, MO\, 63129\, United States
CATEGORIES:Tasting
ATTACH;FMTTYPE=image/png:https://www.dirtcheapfunfun.com/wp-content/uploads/2026/03/Untitled-design-2026-03-02T133636.430.png
END:VEVENT
BEGIN:VEVENT
DTSTART;TZID=America/Chicago:20260328T120000
DTEND;TZID=America/Chicago:20260328T140000
DTSTAMP:20260422T141938
CREATED:20260313T194647Z
LAST-MODIFIED:20260313T194647Z
UID:10000338-1774699200-1774706400@www.dirtcheapfunfun.com
SUMMARY:Quirk Tiger Paw Punch & Quirk Berry and Botanical Variety Pack
DESCRIPTION:
URL:https://www.dirtcheapfunfun.com/event/quirk-tiger-paw-punch-quirk-berry-and-botanical-variety-pack-4/
LOCATION:Dirt Cheap Washington\, 1505 Heritage Hills Pkwy\, Washington\, MO\, 63090\, United States
CATEGORIES:Tasting
ATTACH;FMTTYPE=image/png:https://www.dirtcheapfunfun.com/wp-content/uploads/2026/03/Untitled-design-2026-03-13T144042.901.png
END:VEVENT
BEGIN:VEVENT
DTSTART;TZID=America/Chicago:20260328T120000
DTEND;TZID=America/Chicago:20260328T140000
DTSTAMP:20260422T141938
CREATED:20260302T193802Z
LAST-MODIFIED:20260302T193802Z
UID:10000315-1774699200-1774706400@www.dirtcheapfunfun.com
SUMMARY:Pabst 99
DESCRIPTION:
URL:https://www.dirtcheapfunfun.com/event/pabst-99-2/
LOCATION:Dirt Cheap Washington\, 1505 Heritage Hills Pkwy\, Washington\, MO\, 63090\, United States
CATEGORIES:Tasting
ATTACH;FMTTYPE=image/png:https://www.dirtcheapfunfun.com/wp-content/uploads/2026/03/Untitled-design-2026-03-02T133636.430.png
END:VEVENT
BEGIN:VEVENT
DTSTART;TZID=America/Chicago:20260327T173000
DTEND;TZID=America/Chicago:20260327T193000
DTSTAMP:20260422T141938
CREATED:20260302T191540Z
LAST-MODIFIED:20260302T191540Z
UID:10000298-1774632600-1774639800@www.dirtcheapfunfun.com
SUMMARY:Nutrl Peach\, Nutrl Blueberry\, Skimmers Pink Lemonade
DESCRIPTION:
URL:https://www.dirtcheapfunfun.com/event/nutrl-peach-nutrl-blueberry-skimmers-pink-lemonade-18/
LOCATION:Dirt Cheap Fenton\, 1119B Gravois Road\, Fenton\, 63026\, United States
CATEGORIES:Tasting
ATTACH;FMTTYPE=image/png:https://www.dirtcheapfunfun.com/wp-content/uploads/2026/02/Untitled-design-2026-02-09T125009.272.png
END:VEVENT
BEGIN:VEVENT
DTSTART;TZID=America/Chicago:20260327T170000
DTEND;TZID=America/Chicago:20260327T190000
DTSTAMP:20260422T141938
CREATED:20260302T194132Z
LAST-MODIFIED:20260302T194132Z
UID:10000319-1774630800-1774638000@www.dirtcheapfunfun.com
SUMMARY:Pabst 99
DESCRIPTION:
URL:https://www.dirtcheapfunfun.com/event/pabst-99-4/
LOCATION:Dirt Cheap Affton\, 8445 Gravois Rd\, Affton\, MO\, 63123\, United States
CATEGORIES:Tasting
ATTACH;FMTTYPE=image/png:https://www.dirtcheapfunfun.com/wp-content/uploads/2026/03/Untitled-design-2026-03-02T133636.430.png
END:VEVENT
BEGIN:VEVENT
DTSTART;TZID=America/Chicago:20260327T170000
DTEND;TZID=America/Chicago:20260327T190000
DTSTAMP:20260422T141938
CREATED:20260302T192554Z
LAST-MODIFIED:20260302T192554Z
UID:10000308-1774630800-1774638000@www.dirtcheapfunfun.com
SUMMARY:Coors Banquet 12pk-16oz
DESCRIPTION:
URL:https://www.dirtcheapfunfun.com/event/coors-banquet-12pk-16oz-7/
LOCATION:Dirt Cheap Washington\, 1505 Heritage Hills Pkwy\, Washington\, MO\, 63090\, United States
CATEGORIES:Tasting
ATTACH;FMTTYPE=image/png:https://www.dirtcheapfunfun.com/wp-content/uploads/2026/03/Untitled-design-2026-03-02T130417.191.png
END:VEVENT
BEGIN:VEVENT
DTSTART;TZID=America/Chicago:20260327T170000
DTEND;TZID=America/Chicago:20260327T190000
DTSTAMP:20260422T141938
CREATED:20260302T192425Z
LAST-MODIFIED:20260302T192425Z
UID:10000306-1774630800-1774638000@www.dirtcheapfunfun.com
SUMMARY:Coors Banquet 12pk-16oz
DESCRIPTION:
URL:https://www.dirtcheapfunfun.com/event/coors-banquet-12pk-16oz-6/
LOCATION:Dirt Cheap Kisker\, 1495 Kisker Rd\, St Charles\, MO\, 63304\, United States
CATEGORIES:Tasting
ATTACH;FMTTYPE=image/png:https://www.dirtcheapfunfun.com/wp-content/uploads/2026/03/Untitled-design-2026-03-02T130417.191.png
END:VEVENT
BEGIN:VEVENT
DTSTART;TZID=America/Chicago:20260327T170000
DTEND;TZID=America/Chicago:20260327T190000
DTSTAMP:20260422T141938
CREATED:20260302T192219Z
LAST-MODIFIED:20260302T192219Z
UID:10000304-1774630800-1774638000@www.dirtcheapfunfun.com
SUMMARY:Coors Banquet 12pk-16oz
DESCRIPTION:
URL:https://www.dirtcheapfunfun.com/event/coors-banquet-12pk-16oz-5/
LOCATION:Dirt Cheap Affton\, 8445 Gravois Rd\, Affton\, MO\, 63123\, United States
CATEGORIES:Tasting
ATTACH;FMTTYPE=image/png:https://www.dirtcheapfunfun.com/wp-content/uploads/2026/03/Untitled-design-2026-03-02T130417.191.png
END:VEVENT
BEGIN:VEVENT
DTSTART;TZID=America/Chicago:20260327T170000
DTEND;TZID=America/Chicago:20260327T190000
DTSTAMP:20260422T141938
CREATED:20260302T192055Z
LAST-MODIFIED:20260302T192055Z
UID:10000302-1774630800-1774638000@www.dirtcheapfunfun.com
SUMMARY:Coors Banquet 12pk-16oz
DESCRIPTION:
URL:https://www.dirtcheapfunfun.com/event/coors-banquet-12pk-16oz-4/
LOCATION:Dirt Cheap Oakville\, 4359 Telegraph Rd\, St. Louis\, MO\, 63129\, United States
CATEGORIES:Tasting
ATTACH;FMTTYPE=image/png:https://www.dirtcheapfunfun.com/wp-content/uploads/2026/03/Untitled-design-2026-03-02T130417.191.png
END:VEVENT
BEGIN:VEVENT
DTSTART;TZID=America/Chicago:20260327T160000
DTEND;TZID=America/Chicago:20260327T180000
DTSTAMP:20260422T141938
CREATED:20260302T194249Z
LAST-MODIFIED:20260302T194249Z
UID:10000321-1774627200-1774634400@www.dirtcheapfunfun.com
SUMMARY:Pabst 99
DESCRIPTION:
URL:https://www.dirtcheapfunfun.com/event/pabst-99-6/
LOCATION:Dirt Cheap West Alton\, 13898 US-67\, West Alton\, MO\, 63386\, United States
CATEGORIES:Tasting
ATTACH;FMTTYPE=image/png:https://www.dirtcheapfunfun.com/wp-content/uploads/2026/03/Untitled-design-2026-03-02T133636.430.png
END:VEVENT
BEGIN:VEVENT
DTSTART;TZID=America/Chicago:20260326T170000
DTEND;TZID=America/Chicago:20260326T190000
DTSTAMP:20260422T141938
CREATED:20260302T192715Z
LAST-MODIFIED:20260302T192715Z
UID:10000310-1774544400-1774551600@www.dirtcheapfunfun.com
SUMMARY:Coors Banquet 12pk-16oz
DESCRIPTION:
URL:https://www.dirtcheapfunfun.com/event/coors-banquet-12pk-16oz-8/
LOCATION:Dirt Cheap Wentzville\, 42 West Hwy N\, Wentzville\, MO\, 63385\, United States
CATEGORIES:Tasting
ATTACH;FMTTYPE=image/png:https://www.dirtcheapfunfun.com/wp-content/uploads/2026/03/Untitled-design-2026-03-02T130417.191.png
END:VEVENT
BEGIN:VEVENT
DTSTART;TZID=America/Chicago:20260326T170000
DTEND;TZID=America/Chicago:20260326T190000
DTSTAMP:20260422T141938
CREATED:20260302T191617Z
LAST-MODIFIED:20260302T191617Z
UID:10000299-1774544400-1774551600@www.dirtcheapfunfun.com
SUMMARY:Coors Banquet 12pk-16oz
DESCRIPTION:
URL:https://www.dirtcheapfunfun.com/event/coors-banquet-12pk-16oz-3/
LOCATION:Dirt Cheap Fenton\, 1119B Gravois Road\, Fenton\, 63026\, United States
CATEGORIES:Tasting
ATTACH;FMTTYPE=image/png:https://www.dirtcheapfunfun.com/wp-content/uploads/2026/03/Untitled-design-2026-03-02T130417.191.png
END:VEVENT
BEGIN:VEVENT
DTSTART;TZID=America/Chicago:20260326T143000
DTEND;TZID=America/Chicago:20260326T163000
DTSTAMP:20260422T141938
CREATED:20260302T190903Z
LAST-MODIFIED:20260302T190903Z
UID:10000293-1774535400-1774542600@www.dirtcheapfunfun.com
SUMMARY:Nutrl Peach\, Nutrl Blueberry\, Skimmers Pink Lemonade
DESCRIPTION:
URL:https://www.dirtcheapfunfun.com/event/nutrl-peach-nutrl-blueberry-skimmers-pink-lemonade-16/
LOCATION:Dirt Cheap O’Fallon\, 102 McDonald Ln\, O'Fallon\, MO\, 63366\, United States
CATEGORIES:Tasting
ATTACH;FMTTYPE=image/png:https://www.dirtcheapfunfun.com/wp-content/uploads/2026/02/Untitled-design-2026-02-09T125009.272.png
END:VEVENT
BEGIN:VEVENT
DTSTART;TZID=America/Chicago:20260326T130000
DTEND;TZID=America/Chicago:20260326T140000
DTSTAMP:20260422T141938
CREATED:20260309T180645Z
LAST-MODIFIED:20260309T180645Z
UID:10000334-1774530000-1774533600@www.dirtcheapfunfun.com
SUMMARY:Dirt Cheap Chicken at Ballpark Village!
DESCRIPTION:Join the Dirt Cheap chicken at Ballpark Village on Opening Day from 1-2pm. There will be a photo op plus we’ll have some fun giveaways. \nStock up on all your go-to party favorites before the celebration at Dirt Cheap!
URL:https://www.dirtcheapfunfun.com/event/dirt-cheap-chicken-at-ballpark-village/
LOCATION:MO
CATEGORIES:Event
ATTACH;FMTTYPE=image/png:https://www.dirtcheapfunfun.com/wp-content/uploads/2026/03/Untitled-design-2026-03-09T130439.281.png
END:VEVENT
BEGIN:VEVENT
DTSTART;TZID=America/Chicago:20260326T120000
DTEND;TZID=America/Chicago:20260326T140000
DTSTAMP:20260422T141938
CREATED:20260302T192348Z
LAST-MODIFIED:20260302T192348Z
UID:10000305-1774526400-1774533600@www.dirtcheapfunfun.com
SUMMARY:Nutrl Peach\, Nutrl Blueberry\, Skimmers Pink Lemonade
DESCRIPTION:
URL:https://www.dirtcheapfunfun.com/event/nutrl-peach-nutrl-blueberry-skimmers-pink-lemonade-21/
LOCATION:Dirt Cheap Kisker\, 1495 Kisker Rd\, St Charles\, MO\, 63304\, United States
CATEGORIES:Tasting
ATTACH;FMTTYPE=image/png:https://www.dirtcheapfunfun.com/wp-content/uploads/2026/02/Untitled-design-2026-02-09T125009.272.png
END:VEVENT
END:VCALENDAR